BEGIN:VCALENDAR
VERSION:2.0
PRODID:-//Friends of San Juan National Historic Site - ECPv6.15.18//NONSGML v1.0//EN
CALSCALE:GREGORIAN
METHOD:PUBLISH
X-WR-CALNAME:Friends of San Juan National Historic Site
X-ORIGINAL-URL:https://friendsofsjnhs.org
X-WR-CALDESC:Events for Friends of San Juan National Historic Site
REFRESH-INTERVAL;VALUE=DURATION:PT1H
X-Robots-Tag:noindex
X-PUBLISHED-TTL:PT1H
BEGIN:VTIMEZONE
TZID:UTC
BEGIN:STANDARD
TZOFFSETFROM:+0000
TZOFFSETTO:+0000
TZNAME:UTC
DTSTART:20220101T000000
END:STANDARD
END:VTIMEZONE
BEGIN:VEVENT
DTSTART;TZID=UTC:20230414T180000
DTEND;TZID=UTC:20230414T200000
DTSTAMP:20260421T113544
CREATED:20230318T174726Z
LAST-MODIFIED:20230331T125508Z
UID:809-1681495200-1681502400@friendsofsjnhs.org
SUMMARY:Música serena al atardecer con Zendo Stereo en El Morro
DESCRIPTION:
URL:https://friendsofsjnhs.org/event/sunset-music-meditation-at-el-morro-with-zendo-stero/
LOCATION:El Morro\, Calle Norzagaray y Calle del Morro\, Viejo San Juan\, 00901\, Puerto Rico
CATEGORIES:Wellness
ATTACH;FMTTYPE=image/jpeg:https://friendsofsjnhs.org/wp-content/uploads/2023/03/ZS_EventBrite_04.14.23-SpanishV2.jpg
ORGANIZER;CN="Friends of San Juan National Historic Site":MAILTO:info@friendsofsjnhs.org
END:VEVENT
END:VCALENDAR